BEGIN:VCALENDAR
VERSION:2.0
PRODID:-//Füreinander da sein e.V. - ECPv6.15.20//NONSGML v1.0//EN
CALSCALE:GREGORIAN
METHOD:PUBLISH
X-ORIGINAL-URL:https://fuereinander-da-sein-tann.de
X-WR-CALDESC:Veranstaltungen für Füreinander da sein e.V.
REFRESH-INTERVAL;VALUE=DURATION:PT1H
X-Robots-Tag:noindex
X-PUBLISHED-TTL:PT1H
BEGIN:VTIMEZONE
TZID:UTC
BEGIN:STANDARD
TZOFFSETFROM:+0000
TZOFFSETTO:+0000
TZNAME:UTC
DTSTART:20240101T000000
END:STANDARD
END:VTIMEZONE
BEGIN:VEVENT
DTSTART;TZID=UTC:20260413T180000
DTEND;TZID=UTC:20260413T210000
DTSTAMP:20260421T100156
CREATED:20260308T134430Z
LAST-MODIFIED:20260308T134440Z
UID:5236-1776103200-1776114000@fuereinander-da-sein-tann.de
SUMMARY:Bürgerbus-Stammtisch
DESCRIPTION:Der nächste Bürgerbus-Stammtisch findet am Montag\, 13. April 2026 um 18:00 Uhr in der Pizzeria in der Rhönhalle statt.  Auch\, wer neu an einer ehrenamtlichen Mitarbeit im Bürgerbus-Team interessiert ist\, kann gerne vorbei kommen.
URL:https://fuereinander-da-sein-tann.de/termin/buergerbus-stammtisch-24
LOCATION:Pizzeria\, Rhönhalle
END:VEVENT
BEGIN:VEVENT
DTSTART;TZID=UTC:20260413T090000
DTEND;TZID=UTC:20260413T110000
DTSTAMP:20260421T100156
CREATED:20251221T180817Z
LAST-MODIFIED:20251221T180817Z
UID:5183-1776070800-1776078000@fuereinander-da-sein-tann.de
SUMMARY:Montagsfrühstück
DESCRIPTION:Seit September 2022 wird im “Tanner Treff ” zweimal im Monat wieder ein Montagsfrühstück angeboten. In der Zeit zwischen 9:00 und 11:00 Uhr besteht die Möglichkeit\, in Gemeinschaft zusammen zu frühstücken. Sie finden nicht nur ein einfaches und ansprechendes Frühstücksangebot\, sondern auch immer Kontaktmöglichkeiten. Zusammen schmeckt es besser und wenn Sie sonst alleine sind\, dann können Sie sich auf den Montag freuen\, müssen nicht alleine zu Hause frühstücken und können anschließend bequem in Tann Ihre Erledigungen machen.
URL:https://fuereinander-da-sein-tann.de/termin/montagsfruehstueck-72
LOCATION:Tanner Treff
ATTACH;FMTTYPE=image/jpeg:https://fuereinander-da-sein-tann.de/wp-content/uploads/2020/03/Montagsfrühstückstisch-2-scaled.jpg
END:VEVENT
BEGIN:VEVENT
DTSTART;TZID=UTC:20260330T090000
DTEND;TZID=UTC:20260330T110000
DTSTAMP:20260421T100156
CREATED:20251221T180652Z
LAST-MODIFIED:20251221T180652Z
UID:5181-1774861200-1774868400@fuereinander-da-sein-tann.de
SUMMARY:Montagsfrühstück
DESCRIPTION:Seit September 2022 wird im “Tanner Treff ” zweimal im Monat wieder ein Montagsfrühstück angeboten. In der Zeit zwischen 9:00 und 11:00 Uhr besteht die Möglichkeit\, in Gemeinschaft zusammen zu frühstücken. Sie finden nicht nur ein einfaches und ansprechendes Frühstücksangebot\, sondern auch immer Kontaktmöglichkeiten. Zusammen schmeckt es besser und wenn Sie sonst alleine sind\, dann können Sie sich auf den Montag freuen\, müssen nicht alleine zu Hause frühstücken und können anschließend bequem in Tann Ihre Erledigungen machen.
URL:https://fuereinander-da-sein-tann.de/termin/montagsfruehstueck-71
LOCATION:Tanner Treff
ATTACH;FMTTYPE=image/jpeg:https://fuereinander-da-sein-tann.de/wp-content/uploads/2020/03/Montagsfrühstückstisch-2-scaled.jpg
END:VEVENT
BEGIN:VEVENT
DTSTART;TZID=UTC:20260326T143000
DTEND;TZID=UTC:20260326T163000
DTSTAMP:20260421T100156
CREATED:20251226T095424Z
LAST-MODIFIED:20251226T095428Z
UID:5203-1774535400-1774542600@fuereinander-da-sein-tann.de
SUMMARY:Erzählcafé
DESCRIPTION:Was ist das Erzählcafé?\nEinmal im Monat findet donnerstags von 14:30 Uhr bis 16:30 Uhr das Erzählcafé des Vereins „Füreinander da sein“ im „Tanner Treff“ in der Rhönhalle statt. Eingeladen sind alle\, die die Gemeinschaft suchen und gerne miteinander erzählen. Jedes Erzählcafé steht unter einem Thema. Nach der Begrüßung sind zunächst alle in gemütlicher Runde zu Kaffee und Kuchen eingeladen. Danach beginnt unter Leitung einer Moderation die gemeinsame Erzählrunde. „Die Erinnerung ist das einzige Paradies\, woraus wir nicht vertrieben werden können.“ Mit diesen Worten beschreibt der Dichter Jean Paul die Bedeutung und den Wert des Erinnerns und Erzählens. Anderen von uns zu erzählen bedeutet\, miteinander ins Gespräch zu kommen\, Erfahrungen auszutauschen\, sich gegenseitig zu bereichern. Es bedeutet aber auch\, dass wir uns selbst über uns und unser Leben bewusst werden.
URL:https://fuereinander-da-sein-tann.de/termin/erzaehlcafe-41
LOCATION:Tanner Treff
END:VEVENT
BEGIN:VEVENT
DTSTART;TZID=UTC:20260316T090000
DTEND;TZID=UTC:20260316T110000
DTSTAMP:20260421T100156
CREATED:20251221T180524Z
LAST-MODIFIED:20251221T180524Z
UID:5179-1773651600-1773658800@fuereinander-da-sein-tann.de
SUMMARY:Montagsfrühstück
DESCRIPTION:Seit September 2022 wird im “Tanner Treff ” zweimal im Monat wieder ein Montagsfrühstück angeboten. In der Zeit zwischen 9:00 und 11:00 Uhr besteht die Möglichkeit\, in Gemeinschaft zusammen zu frühstücken. Sie finden nicht nur ein einfaches und ansprechendes Frühstücksangebot\, sondern auch immer Kontaktmöglichkeiten. Zusammen schmeckt es besser und wenn Sie sonst alleine sind\, dann können Sie sich auf den Montag freuen\, müssen nicht alleine zu Hause frühstücken und können anschließend bequem in Tann Ihre Erledigungen machen.
URL:https://fuereinander-da-sein-tann.de/termin/montagsfruehstueck-70
LOCATION:Tanner Treff
ATTACH;FMTTYPE=image/jpeg:https://fuereinander-da-sein-tann.de/wp-content/uploads/2020/03/Montagsfrühstückstisch-2-scaled.jpg
END:VEVENT
BEGIN:VEVENT
DTSTART;TZID=UTC:20260302T180000
DTEND;TZID=UTC:20260302T210000
DTSTAMP:20260421T100156
CREATED:20260213T181135Z
LAST-MODIFIED:20260213T181147Z
UID:5233-1772474400-1772485200@fuereinander-da-sein-tann.de
SUMMARY:Bürgerbus-Stammtisch
DESCRIPTION:Der nächste Bürgerbus-Stammtisch findet am Montag\, 02. März 2026 um 18:00 Uhr in der Pizzeria in der Rhönhalle statt.  Auch\, wer neu an einer ehrenamtlichen Mitarbeit im Bürgerbus-Team interessiert ist\, kann gerne vorbei kommen.
URL:https://fuereinander-da-sein-tann.de/termin/buergerbus-stammtisch-23
LOCATION:Pizzeria\, Rhönhalle
END:VEVENT
BEGIN:VEVENT
DTSTART;TZID=UTC:20260302T090000
DTEND;TZID=UTC:20260302T110000
DTSTAMP:20260421T100156
CREATED:20251221T180410Z
LAST-MODIFIED:20251221T180410Z
UID:5177-1772442000-1772449200@fuereinander-da-sein-tann.de
SUMMARY:Montagsfrühstück
DESCRIPTION:Seit September 2022 wird im “Tanner Treff ” zweimal im Monat wieder ein Montagsfrühstück angeboten. In der Zeit zwischen 9:00 und 11:00 Uhr besteht die Möglichkeit\, in Gemeinschaft zusammen zu frühstücken. Sie finden nicht nur ein einfaches und ansprechendes Frühstücksangebot\, sondern auch immer Kontaktmöglichkeiten. Zusammen schmeckt es besser und wenn Sie sonst alleine sind\, dann können Sie sich auf den Montag freuen\, müssen nicht alleine zu Hause frühstücken und können anschließend bequem in Tann Ihre Erledigungen machen.
URL:https://fuereinander-da-sein-tann.de/termin/montagsfruehstueck-69
LOCATION:Tanner Treff
ATTACH;FMTTYPE=image/jpeg:https://fuereinander-da-sein-tann.de/wp-content/uploads/2020/03/Montagsfrühstückstisch-2-scaled.jpg
END:VEVENT
BEGIN:VEVENT
DTSTART;TZID=UTC:20260226T143000
DTEND;TZID=UTC:20260226T163000
DTSTAMP:20260421T100156
CREATED:20251226T095235Z
LAST-MODIFIED:20251226T095256Z
UID:5201-1772116200-1772123400@fuereinander-da-sein-tann.de
SUMMARY:Erzählcafé
DESCRIPTION:Was ist das Erzählcafé?\nEinmal im Monat findet donnerstags von 14:30 Uhr bis 16:30 Uhr das Erzählcafé des Vereins „Füreinander da sein“ im „Tanner Treff“ in der Rhönhalle statt. Eingeladen sind alle\, die die Gemeinschaft suchen und gerne miteinander erzählen. Jedes Erzählcafé steht unter einem Thema. Nach der Begrüßung sind zunächst alle in gemütlicher Runde zu Kaffee und Kuchen eingeladen. Danach beginnt unter Leitung einer Moderation die gemeinsame Erzählrunde. „Die Erinnerung ist das einzige Paradies\, woraus wir nicht vertrieben werden können.“ Mit diesen Worten beschreibt der Dichter Jean Paul die Bedeutung und den Wert des Erinnerns und Erzählens. Anderen von uns zu erzählen bedeutet\, miteinander ins Gespräch zu kommen\, Erfahrungen auszutauschen\, sich gegenseitig zu bereichern. Es bedeutet aber auch\, dass wir uns selbst über uns und unser Leben bewusst werden.
URL:https://fuereinander-da-sein-tann.de/termin/erzaehlcafe-40
LOCATION:Tanner Treff
END:VEVENT
BEGIN:VEVENT
DTSTART;TZID=UTC:20260216T090000
DTEND;TZID=UTC:20260216T110000
DTSTAMP:20260421T100156
CREATED:20251221T180257Z
LAST-MODIFIED:20251221T180257Z
UID:5175-1771232400-1771239600@fuereinander-da-sein-tann.de
SUMMARY:Montagsfrühstück
DESCRIPTION:Seit September 2022 wird im “Tanner Treff ” zweimal im Monat wieder ein Montagsfrühstück angeboten. In der Zeit zwischen 9:00 und 11:00 Uhr besteht die Möglichkeit\, in Gemeinschaft zusammen zu frühstücken. Sie finden nicht nur ein einfaches und ansprechendes Frühstücksangebot\, sondern auch immer Kontaktmöglichkeiten. Zusammen schmeckt es besser und wenn Sie sonst alleine sind\, dann können Sie sich auf den Montag freuen\, müssen nicht alleine zu Hause frühstücken und können anschließend bequem in Tann Ihre Erledigungen machen.
URL:https://fuereinander-da-sein-tann.de/termin/montagsfruehstueck-68
LOCATION:Tanner Treff
ATTACH;FMTTYPE=image/jpeg:https://fuereinander-da-sein-tann.de/wp-content/uploads/2020/03/Montagsfrühstückstisch-2-scaled.jpg
END:VEVENT
BEGIN:VEVENT
DTSTART;TZID=UTC:20260202T180000
DTEND;TZID=UTC:20260202T210000
DTSTAMP:20260421T100156
CREATED:20260118T120104Z
LAST-MODIFIED:20260118T120146Z
UID:5230-1770055200-1770066000@fuereinander-da-sein-tann.de
SUMMARY:Bürgerbus-Stammtisch
DESCRIPTION:Der nächste Bürgerbus-Stammtisch findet am Montag\, 02. Februar 2026 um 18:00 Uhr in der Pizzeria in der Rhönhalle statt.  Auch\, wer neu an einer ehrenamtlichen Mitarbeit im Bürgerbus-Team interessiert ist\, kann gerne vorbei kommen.
URL:https://fuereinander-da-sein-tann.de/termin/buergerbus-stammtisch-22
END:VEVENT
BEGIN:VEVENT
DTSTART;TZID=UTC:20260202T090000
DTEND;TZID=UTC:20260202T110000
DTSTAMP:20260421T100156
CREATED:20251221T180051Z
LAST-MODIFIED:20251221T180059Z
UID:5173-1770022800-1770030000@fuereinander-da-sein-tann.de
SUMMARY:Montagsfrühstück
DESCRIPTION:Seit September 2022 wird im “Tanner Treff ” zweimal im Monat wieder ein Montagsfrühstück angeboten. In der Zeit zwischen 9:00 und 11:00 Uhr besteht die Möglichkeit\, in Gemeinschaft zusammen zu frühstücken. Sie finden nicht nur ein einfaches und ansprechendes Frühstücksangebot\, sondern auch immer Kontaktmöglichkeiten. Zusammen schmeckt es besser und wenn Sie sonst alleine sind\, dann können Sie sich auf den Montag freuen\, müssen nicht alleine zu Hause frühstücken und können anschließend bequem in Tann Ihre Erledigungen machen.
URL:https://fuereinander-da-sein-tann.de/termin/montagsfruehstueck-67
LOCATION:Tanner Treff
ATTACH;FMTTYPE=image/jpeg:https://fuereinander-da-sein-tann.de/wp-content/uploads/2020/03/Montagsfrühstückstisch-2-scaled.jpg
END:VEVENT
BEGIN:VEVENT
DTSTART;TZID=UTC:20260129T143000
DTEND;TZID=UTC:20260129T163000
DTSTAMP:20260421T100156
CREATED:20251221T185157Z
LAST-MODIFIED:20251221T185157Z
UID:5199-1769697000-1769704200@fuereinander-da-sein-tann.de
SUMMARY:Erzählcafé
DESCRIPTION:Was ist das Erzählcafé?\nEinmal im Monat findet donnerstags von 14:30 Uhr bis 16:30 Uhr das Erzählcafé des Vereins „Füreinander da sein“ im „Tanner Treff“ in der Rhönhalle statt. Eingeladen sind alle\, die die Gemeinschaft suchen und gerne miteinander erzählen. Jedes Erzählcafé steht unter einem Thema. Nach der Begrüßung sind zunächst alle in gemütlicher Runde zu Kaffee und Kuchen eingeladen. Danach beginnt unter Leitung einer Moderation die gemeinsame Erzählrunde. „Die Erinnerung ist das einzige Paradies\, woraus wir nicht vertrieben werden können.“ Mit diesen Worten beschreibt der Dichter Jean Paul die Bedeutung und den Wert des Erinnerns und Erzählens. Anderen von uns zu erzählen bedeutet\, miteinander ins Gespräch zu kommen\, Erfahrungen auszutauschen\, sich gegenseitig zu bereichern. Es bedeutet aber auch\, dass wir uns selbst über uns und unser Leben bewusst werden.
URL:https://fuereinander-da-sein-tann.de/termin/erzaehlcafe-39
LOCATION:Tanner Treff
END:VEVENT
BEGIN:VEVENT
DTSTART;TZID=UTC:20260119T090000
DTEND;TZID=UTC:20260119T110000
DTSTAMP:20260421T100156
CREATED:20251221T175920Z
LAST-MODIFIED:20251221T175920Z
UID:5171-1768813200-1768820400@fuereinander-da-sein-tann.de
SUMMARY:Montagsfrühstück
DESCRIPTION:Seit September 2022 wird im “Tanner Treff ” zweimal im Monat wieder ein Montagsfrühstück angeboten. In der Zeit zwischen 9:00 und 11:00 Uhr besteht die Möglichkeit\, in Gemeinschaft zusammen zu frühstücken. Sie finden nicht nur ein einfaches und ansprechendes Frühstücksangebot\, sondern auch immer Kontaktmöglichkeiten. Zusammen schmeckt es besser und wenn Sie sonst alleine sind\, dann können Sie sich auf den Montag freuen\, müssen nicht alleine zu Hause frühstücken und können anschließend bequem in Tann Ihre Erledigungen machen.
URL:https://fuereinander-da-sein-tann.de/termin/montagsfruehstueck-66
LOCATION:Tanner Treff
ATTACH;FMTTYPE=image/jpeg:https://fuereinander-da-sein-tann.de/wp-content/uploads/2020/03/Montagsfrühstückstisch-2-scaled.jpg
END:VEVENT
BEGIN:VEVENT
DTSTART;TZID=UTC:20260105T180000
DTEND;TZID=UTC:20260105T210000
DTSTAMP:20260421T100156
CREATED:20251221T173922Z
LAST-MODIFIED:20251221T173922Z
UID:5169-1767636000-1767646800@fuereinander-da-sein-tann.de
SUMMARY:Bürgerbus-Stammtisch
DESCRIPTION:Der nächste Bürgerbus-Stammtisch findet am Montag\, 05. Januar 2026 um 18:00 Uhr in der Pizzeria in der Rhönhalle statt.  Auch\, wer neu an einer ehrenamtlichen Mitarbeit im Bürgerbus-Team interessiert ist\, kann gerne vorbei kommen.
URL:https://fuereinander-da-sein-tann.de/termin/buergerbus-stammtisch-21
LOCATION:Pizzeria\, Rhönhalle
END:VEVENT
BEGIN:VEVENT
DTSTART;TZID=UTC:20260105T090000
DTEND;TZID=UTC:20260105T110000
DTSTAMP:20260421T100156
CREATED:20251221T173754Z
LAST-MODIFIED:20251221T174200Z
UID:5167-1767603600-1767610800@fuereinander-da-sein-tann.de
SUMMARY:Montagsfrühstück
DESCRIPTION:Seit September 2022 wird im “Tanner Treff ” zweimal im Monat wieder ein Montagsfrühstück angeboten. In der Zeit zwischen 9:00 und 11:00 Uhr besteht die Möglichkeit\, in Gemeinschaft zusammen zu frühstücken. Sie finden nicht nur ein einfaches und ansprechendes Frühstücksangebot\, sondern auch immer Kontaktmöglichkeiten. Zusammen schmeckt es besser und wenn Sie sonst alleine sind\, dann können Sie sich auf den Montag freuen\, müssen nicht alleine zu Hause frühstücken und können anschließend bequem in Tann Ihre Erledigungen machen.
URL:https://fuereinander-da-sein-tann.de/termin/montagsfruehstueck-65
LOCATION:Tanner Treff
ATTACH;FMTTYPE=image/jpeg:https://fuereinander-da-sein-tann.de/wp-content/uploads/2020/03/Montagsfrühstückstisch-2-scaled.jpg
END:VEVENT
BEGIN:VEVENT
DTSTART;TZID=UTC:20251218T143000
DTEND;TZID=UTC:20251218T163000
DTSTAMP:20260421T100156
CREATED:20250623T190219Z
LAST-MODIFIED:20250623T190219Z
UID:5118-1766068200-1766075400@fuereinander-da-sein-tann.de
SUMMARY:Erzählcafé
DESCRIPTION:Was ist das Erzählcafé?\nEinmal im Monat findet donnerstags von 14:30 Uhr bis 16:30 Uhr das Erzählcafé des Vereins „Füreinander da sein“ im „Tanner Treff“ in der Rhönhalle statt. Eingeladen sind alle\, die die Gemeinschaft suchen und gerne miteinander erzählen. Jedes Erzählcafé steht unter einem Thema. Nach der Begrüßung sind zunächst alle in gemütlicher Runde zu Kaffee und Kuchen eingeladen. Danach beginnt unter Leitung einer Moderation die gemeinsame Erzählrunde. „Die Erinnerung ist das einzige Paradies\, woraus wir nicht vertrieben werden können.“ Mit diesen Worten beschreibt der Dichter Jean Paul die Bedeutung und den Wert des Erinnerns und Erzählens. Anderen von uns zu erzählen bedeutet\, miteinander ins Gespräch zu kommen\, Erfahrungen auszutauschen\, sich gegenseitig zu bereichern. Es bedeutet aber auch\, dass wir uns selbst über uns und unser Leben bewusst werden.
URL:https://fuereinander-da-sein-tann.de/termin/erzaehlcafe-38
LOCATION:Tanner Treff
END:VEVENT
BEGIN:VEVENT
DTSTART;TZID=UTC:20251208T090000
DTEND;TZID=UTC:20251208T110000
DTSTAMP:20260421T100156
CREATED:20250623T184709Z
LAST-MODIFIED:20250623T184915Z
UID:5106-1765184400-1765191600@fuereinander-da-sein-tann.de
SUMMARY:Montagsfrühstück
DESCRIPTION:Seit September 2022 wird im “Tanner Treff ” zweimal im Monat wieder ein Montagsfrühstück angeboten. In der Zeit zwischen 9:00 und 11:00 Uhr besteht die Möglichkeit\, in Gemeinschaft zusammen zu frühstücken. Sie finden nicht nur ein einfaches und ansprechendes Frühstücksangebot\, sondern auch immer Kontaktmöglichkeiten. Zusammen schmeckt es besser und wenn Sie sonst alleine sind\, dann können Sie sich auf den Montag freuen\, müssen nicht alleine zu Hause frühstücken und können anschließend bequem in Tann Ihre Erledigungen machen.
URL:https://fuereinander-da-sein-tann.de/termin/montagsfruehstueck-64
LOCATION:Tanner Treff
ATTACH;FMTTYPE=image/jpeg:https://fuereinander-da-sein-tann.de/wp-content/uploads/2020/03/Montagsfrühstückstisch-2-scaled.jpg
END:VEVENT
BEGIN:VEVENT
DTSTART;TZID=UTC:20251201T180000
DTEND;TZID=UTC:20251201T210000
DTSTAMP:20260421T100156
CREATED:20251123T185228Z
LAST-MODIFIED:20251123T185234Z
UID:5159-1764612000-1764622800@fuereinander-da-sein-tann.de
SUMMARY:Bürgerbus-Stammtisch
DESCRIPTION:Der nächste Bürgerbus-Stammtisch findet am Montag\, 01. Dezember 2025 um 18:00 Uhr in der Pizzeria in der Rhönhalle statt.  Auch\, wer neu an einer ehrenamtlichen Mitarbeit im Bürgerbus-Team interessiert ist\, kann gerne vorbei kommen.
URL:https://fuereinander-da-sein-tann.de/termin/buergerbus-stammtisch-20
LOCATION:Pizzeria\, Rhönhalle
END:VEVENT
BEGIN:VEVENT
DTSTART;TZID=UTC:20251124T090000
DTEND;TZID=UTC:20251124T110000
DTSTAMP:20260421T100156
CREATED:20250623T184547Z
LAST-MODIFIED:20250623T184547Z
UID:5104-1763974800-1763982000@fuereinander-da-sein-tann.de
SUMMARY:Montagsfrühstück
DESCRIPTION:Seit September 2022 wird im “Tanner Treff ” zweimal im Monat wieder ein Montagsfrühstück angeboten. In der Zeit zwischen 9:00 und 11:00 Uhr besteht die Möglichkeit\, in Gemeinschaft zusammen zu frühstücken. Sie finden nicht nur ein einfaches und ansprechendes Frühstücksangebot\, sondern auch immer Kontaktmöglichkeiten. Zusammen schmeckt es besser und wenn Sie sonst alleine sind\, dann können Sie sich auf den Montag freuen\, müssen nicht alleine zu Hause frühstücken und können anschließend bequem in Tann Ihre Erledigungen machen.
URL:https://fuereinander-da-sein-tann.de/termin/montagsfruehstueck-63
LOCATION:Tanner Treff
ATTACH;FMTTYPE=image/jpeg:https://fuereinander-da-sein-tann.de/wp-content/uploads/2020/03/Montagsfrühstückstisch-2-scaled.jpg
END:VEVENT
BEGIN:VEVENT
DTSTART;TZID=UTC:20251120T143000
DTEND;TZID=UTC:20251120T163000
DTSTAMP:20260421T100156
CREATED:20250623T185902Z
LAST-MODIFIED:20250623T190114Z
UID:5116-1763649000-1763656200@fuereinander-da-sein-tann.de
SUMMARY:Erzählcafé
DESCRIPTION:Was ist das Erzählcafé?\nEinmal im Monat findet donnerstags von 14:30 Uhr bis 16:30 Uhr das Erzählcafé des Vereins „Füreinander da sein“ im „Tanner Treff“ in der Rhönhalle statt. Eingeladen sind alle\, die die Gemeinschaft suchen und gerne miteinander erzählen. Jedes Erzählcafé steht unter einem Thema. Nach der Begrüßung sind zunächst alle in gemütlicher Runde zu Kaffee und Kuchen eingeladen. Danach beginnt unter Leitung einer Moderation die gemeinsame Erzählrunde. „Die Erinnerung ist das einzige Paradies\, woraus wir nicht vertrieben werden können.“ Mit diesen Worten beschreibt der Dichter Jean Paul die Bedeutung und den Wert des Erinnerns und Erzählens. Anderen von uns zu erzählen bedeutet\, miteinander ins Gespräch zu kommen\, Erfahrungen auszutauschen\, sich gegenseitig zu bereichern. Es bedeutet aber auch\, dass wir uns selbst über uns und unser Leben bewusst werden.
URL:https://fuereinander-da-sein-tann.de/termin/erzaehlcafe-37
LOCATION:Tanner Treff
END:VEVENT
BEGIN:VEVENT
DTSTART;TZID=UTC:20251110T090000
DTEND;TZID=UTC:20251110T110000
DTSTAMP:20260421T100156
CREATED:20250623T184420Z
LAST-MODIFIED:20250623T184424Z
UID:5102-1762765200-1762772400@fuereinander-da-sein-tann.de
SUMMARY:Montagsfrühstück
DESCRIPTION:Seit September 2022 wird im “Tanner Treff ” zweimal im Monat wieder ein Montagsfrühstück angeboten. In der Zeit zwischen 9:00 und 11:00 Uhr besteht die Möglichkeit\, in Gemeinschaft zusammen zu frühstücken. Sie finden nicht nur ein einfaches und ansprechendes Frühstücksangebot\, sondern auch immer Kontaktmöglichkeiten. Zusammen schmeckt es besser und wenn Sie sonst alleine sind\, dann können Sie sich auf den Montag freuen\, müssen nicht alleine zu Hause frühstücken und können anschließend bequem in Tann Ihre Erledigungen machen.
URL:https://fuereinander-da-sein-tann.de/termin/montagsfruehstueck-62
LOCATION:Tanner Treff
ATTACH;FMTTYPE=image/jpeg:https://fuereinander-da-sein-tann.de/wp-content/uploads/2020/03/Montagsfrühstückstisch-2-scaled.jpg
END:VEVENT
BEGIN:VEVENT
DTSTART;TZID=UTC:20251030T143000
DTEND;TZID=UTC:20251030T163000
DTSTAMP:20260421T100156
CREATED:20250623T185805Z
LAST-MODIFIED:20250623T185805Z
UID:5114-1761834600-1761841800@fuereinander-da-sein-tann.de
SUMMARY:Erzählcafé
DESCRIPTION:Was ist das Erzählcafé?\nEinmal im Monat findet donnerstags von 14:30 Uhr bis 16:30 Uhr das Erzählcafé des Vereins „Füreinander da sein“ im „Tanner Treff“ in der Rhönhalle statt. Eingeladen sind alle\, die die Gemeinschaft suchen und gerne miteinander erzählen. Jedes Erzählcafé steht unter einem Thema. Nach der Begrüßung sind zunächst alle in gemütlicher Runde zu Kaffee und Kuchen eingeladen. Danach beginnt unter Leitung einer Moderation die gemeinsame Erzählrunde. „Die Erinnerung ist das einzige Paradies\, woraus wir nicht vertrieben werden können.“ Mit diesen Worten beschreibt der Dichter Jean Paul die Bedeutung und den Wert des Erinnerns und Erzählens. Anderen von uns zu erzählen bedeutet\, miteinander ins Gespräch zu kommen\, Erfahrungen auszutauschen\, sich gegenseitig zu bereichern. Es bedeutet aber auch\, dass wir uns selbst über uns und unser Leben bewusst werden.
URL:https://fuereinander-da-sein-tann.de/termin/erzaehlcafe-36
LOCATION:Tanner Treff
END:VEVENT
BEGIN:VEVENT
DTSTART;TZID=UTC:20251027T090000
DTEND;TZID=UTC:20251027T110000
DTSTAMP:20260421T100156
CREATED:20250623T184235Z
LAST-MODIFIED:20250623T184239Z
UID:5100-1761555600-1761562800@fuereinander-da-sein-tann.de
SUMMARY:Montagsfrühstück
DESCRIPTION:Seit September 2022 wird im “Tanner Treff ” zweimal im Monat wieder ein Montagsfrühstück angeboten. In der Zeit zwischen 9:00 und 11:00 Uhr besteht die Möglichkeit\, in Gemeinschaft zusammen zu frühstücken. Sie finden nicht nur ein einfaches und ansprechendes Frühstücksangebot\, sondern auch immer Kontaktmöglichkeiten. Zusammen schmeckt es besser und wenn Sie sonst alleine sind\, dann können Sie sich auf den Montag freuen\, müssen nicht alleine zu Hause frühstücken und können anschließend bequem in Tann Ihre Erledigungen machen.
URL:https://fuereinander-da-sein-tann.de/termin/montagsfruehstueck-61
LOCATION:Tanner Treff
ATTACH;FMTTYPE=image/jpeg:https://fuereinander-da-sein-tann.de/wp-content/uploads/2020/03/Montagsfrühstückstisch-2-scaled.jpg
END:VEVENT
BEGIN:VEVENT
DTSTART;TZID=UTC:20251013T090000
DTEND;TZID=UTC:20251013T110000
DTSTAMP:20260421T100156
CREATED:20250623T184122Z
LAST-MODIFIED:20250623T184127Z
UID:5098-1760346000-1760353200@fuereinander-da-sein-tann.de
SUMMARY:Montagsfrühstück
DESCRIPTION:Seit September 2022 wird im “Tanner Treff ” zweimal im Monat wieder ein Montagsfrühstück angeboten. In der Zeit zwischen 9:00 und 11:00 Uhr besteht die Möglichkeit\, in Gemeinschaft zusammen zu frühstücken. Sie finden nicht nur ein einfaches und ansprechendes Frühstücksangebot\, sondern auch immer Kontaktmöglichkeiten. Zusammen schmeckt es besser und wenn Sie sonst alleine sind\, dann können Sie sich auf den Montag freuen\, müssen nicht alleine zu Hause frühstücken und können anschließend bequem in Tann Ihre Erledigungen machen.
URL:https://fuereinander-da-sein-tann.de/termin/montagsfruehstueck-60
LOCATION:Tanner Treff
ATTACH;FMTTYPE=image/jpeg:https://fuereinander-da-sein-tann.de/wp-content/uploads/2020/03/Montagsfrühstückstisch-2-scaled.jpg
END:VEVENT
BEGIN:VEVENT
DTSTART;TZID=UTC:20251006T180000
DTEND;TZID=UTC:20251006T210000
DTSTAMP:20260421T100156
CREATED:20250924T165151Z
LAST-MODIFIED:20250924T165915Z
UID:5156-1759773600-1759784400@fuereinander-da-sein-tann.de
SUMMARY:Bürgerbus-Stammtisch
DESCRIPTION:Der nächste Bürgerbus-Stammtisch findet am Montag\, 06. Oktober 2025 um 18:00 Uhr in der Pizzeria in der Rhönhalle statt.  Auch\, wer neu an einer ehrenamtlichen Mitarbeit im Bürgerbus-Team interessiert ist\, kann gerne vorbei kommen.
URL:https://fuereinander-da-sein-tann.de/termin/buergerbus-stammtisch-19
LOCATION:Pizzeria\, Rhönhalle
END:VEVENT
BEGIN:VEVENT
DTSTART;TZID=UTC:20250929T090000
DTEND;TZID=UTC:20250929T110000
DTSTAMP:20260421T100156
CREATED:20250623T175834Z
LAST-MODIFIED:20250623T183934Z
UID:5096-1759136400-1759143600@fuereinander-da-sein-tann.de
SUMMARY:Montagsfrühstück
DESCRIPTION:Seit September 2022 wird im “Tanner Treff ” zweimal im Monat wieder ein Montagsfrühstück angeboten. In der Zeit zwischen 9:00 und 11:00 Uhr besteht die Möglichkeit\, in Gemeinschaft zusammen zu frühstücken. Sie finden nicht nur ein einfaches und ansprechendes Frühstücksangebot\, sondern auch immer Kontaktmöglichkeiten. Zusammen schmeckt es besser und wenn Sie sonst alleine sind\, dann können Sie sich auf den Montag freuen\, müssen nicht alleine zu Hause frühstücken und können anschließend bequem in Tann Ihre Erledigungen machen.
URL:https://fuereinander-da-sein-tann.de/termin/montagsfruehstueck-59
LOCATION:Tanner Treff
ATTACH;FMTTYPE=image/jpeg:https://fuereinander-da-sein-tann.de/wp-content/uploads/2020/03/Montagsfrühstückstisch-2-scaled.jpg
END:VEVENT
BEGIN:VEVENT
DTSTART;TZID=UTC:20250918T143000
DTEND;TZID=UTC:20250918T163000
DTSTAMP:20260421T100156
CREATED:20250623T185549Z
LAST-MODIFIED:20250623T185627Z
UID:5112-1758205800-1758213000@fuereinander-da-sein-tann.de
SUMMARY:Erzählcafé
DESCRIPTION:Was ist das Erzählcafé?\nEinmal im Monat findet donnerstags von 14:30 Uhr bis 16:30 Uhr das Erzählcafé des Vereins „Füreinander da sein“ im „Tanner Treff“ in der Rhönhalle statt. Eingeladen sind alle\, die die Gemeinschaft suchen und gerne miteinander erzählen. Jedes Erzählcafé steht unter einem Thema. Nach der Begrüßung sind zunächst alle in gemütlicher Runde zu Kaffee und Kuchen eingeladen. Danach beginnt unter Leitung einer Moderation die gemeinsame Erzählrunde. „Die Erinnerung ist das einzige Paradies\, woraus wir nicht vertrieben werden können.“ Mit diesen Worten beschreibt der Dichter Jean Paul die Bedeutung und den Wert des Erinnerns und Erzählens. Anderen von uns zu erzählen bedeutet\, miteinander ins Gespräch zu kommen\, Erfahrungen auszutauschen\, sich gegenseitig zu bereichern. Es bedeutet aber auch\, dass wir uns selbst über uns und unser Leben bewusst werden.
URL:https://fuereinander-da-sein-tann.de/termin/erzaehlcafe-35
LOCATION:Tanner Treff
END:VEVENT
BEGIN:VEVENT
DTSTART;TZID=UTC:20250915T090000
DTEND;TZID=UTC:20250915T110000
DTSTAMP:20260421T100156
CREATED:20250623T175656Z
LAST-MODIFIED:20250623T175702Z
UID:5094-1757926800-1757934000@fuereinander-da-sein-tann.de
SUMMARY:Montagsfrühstück
DESCRIPTION:Seit September 2022 wird im “Tanner Treff ” zweimal im Monat wieder ein Montagsfrühstück angeboten. In der Zeit zwischen 9:00 und 11:00 Uhr besteht die Möglichkeit\, in Gemeinschaft zusammen zu frühstücken. Sie finden nicht nur ein einfaches und ansprechendes Frühstücksangebot\, sondern auch immer Kontaktmöglichkeiten. Zusammen schmeckt es besser und wenn Sie sonst alleine sind\, dann können Sie sich auf den Montag freuen\, müssen nicht alleine zu Hause frühstücken und können anschließend bequem in Tann Ihre Erledigungen machen.
URL:https://fuereinander-da-sein-tann.de/termin/montagsfruehstueck-58
LOCATION:Tanner Treff
ATTACH;FMTTYPE=image/jpeg:https://fuereinander-da-sein-tann.de/wp-content/uploads/2020/03/Montagsfrühstückstisch-2-scaled.jpg
END:VEVENT
BEGIN:VEVENT
DTSTART;TZID=UTC:20250901T180000
DTEND;TZID=UTC:20250901T210000
DTSTAMP:20260421T100156
CREATED:20250824T093224Z
LAST-MODIFIED:20250824T093326Z
UID:5143-1756749600-1756760400@fuereinander-da-sein-tann.de
SUMMARY:Bürgerbus-Stammtisch
DESCRIPTION:Der nächste Bürgerbus-Stammtisch findet am Montag\, 01. September 2025 um 18:00 Uhr in der Pizzeria in der Rhönhalle statt.  Auch\, wer neu an einer ehrenamtlichen Mitarbeit im Bürgerbus-Team interessiert ist\, kann gerne vorbei kommen.
URL:https://fuereinander-da-sein-tann.de/termin/buergerbus-stammtisch-18
LOCATION:Pizzeria\, Rhönhalle
END:VEVENT
BEGIN:VEVENT
DTSTART;TZID=UTC:20250901T090000
DTEND;TZID=UTC:20250901T110000
DTSTAMP:20260421T100156
CREATED:20250623T175524Z
LAST-MODIFIED:20250623T175530Z
UID:5092-1756717200-1756724400@fuereinander-da-sein-tann.de
SUMMARY:Montagsfrühstück
DESCRIPTION:Seit September 2022 wird im “Tanner Treff ” zweimal im Monat wieder ein Montagsfrühstück angeboten. In der Zeit zwischen 9:00 und 11:00 Uhr besteht die Möglichkeit\, in Gemeinschaft zusammen zu frühstücken. Sie finden nicht nur ein einfaches und ansprechendes Frühstücksangebot\, sondern auch immer Kontaktmöglichkeiten. Zusammen schmeckt es besser und wenn Sie sonst alleine sind\, dann können Sie sich auf den Montag freuen\, müssen nicht alleine zu Hause frühstücken und können anschließend bequem in Tann Ihre Erledigungen machen.
URL:https://fuereinander-da-sein-tann.de/termin/montagsfruehstueck-57
LOCATION:Tanner Treff
ATTACH;FMTTYPE=image/jpeg:https://fuereinander-da-sein-tann.de/wp-content/uploads/2020/03/Montagsfrühstückstisch-2-scaled.jpg
END:VEVENT
END:VCALENDAR