BEGIN:VCALENDAR
VERSION:2.0
PRODID:-//Füreinander da sein e.V. - ECPv6.15.20//NONSGML v1.0//EN
CALSCALE:GREGORIAN
METHOD:PUBLISH
X-ORIGINAL-URL:https://fuereinander-da-sein-tann.de
X-WR-CALDESC:Veranstaltungen für Füreinander da sein e.V.
REFRESH-INTERVAL;VALUE=DURATION:PT1H
X-Robots-Tag:noindex
X-PUBLISHED-TTL:PT1H
BEGIN:VTIMEZONE
TZID:UTC
BEGIN:STANDARD
TZOFFSETFROM:+0000
TZOFFSETTO:+0000
TZNAME:UTC
DTSTART:20220101T000000
END:STANDARD
END:VTIMEZONE
BEGIN:VEVENT
DTSTART;TZID=UTC:20231204T090000
DTEND;TZID=UTC:20231204T110000
DTSTAMP:20260424T162934
CREATED:20231029T125327Z
LAST-MODIFIED:20231029T125627Z
UID:4768-1701680400-1701687600@fuereinander-da-sein-tann.de
SUMMARY:Montagsfrühstück
DESCRIPTION:Ab September 2022 wird im “Tanner Treff ” zweimal im Monat wieder ein Montagsfrühstück angeboten. In der Zeit zwischen 9:00 und 11:00 Uhr besteht die Möglichkeit\, in Gemeinschaft zusammen zu frühstücken. Sie finden nicht nur ein einfaches und ansprechendes Frühstücksangebot\, sondern auch immer Kontaktmöglichkeiten. Zusammen schmeckt es besser und wenn Sie sonst alleine sind\, dann können Sie sich auf den Montag freuen\, müssen nicht alleine zu Hause frühstücken und können anschließend bequem in Tann Ihre Erledigungen machen.
URL:https://fuereinander-da-sein-tann.de/termin/montagsfruehstueck-15
LOCATION:Tanner Treff
ATTACH;FMTTYPE=image/jpeg:https://fuereinander-da-sein-tann.de/wp-content/uploads/2020/03/Montagsfrühstückstisch-2-scaled.jpg
END:VEVENT
BEGIN:VEVENT
DTSTART;TZID=UTC:20231204T180000
DTEND;TZID=UTC:20231204T210000
DTSTAMP:20260424T162934
CREATED:20231029T124544Z
LAST-MODIFIED:20231029T124555Z
UID:4764-1701712800-1701723600@fuereinander-da-sein-tann.de
SUMMARY:Bürgerbusfahrer-Stammtisch
DESCRIPTION:Das nächste Stammtischtreffen der Bürgerbusfahrer ist am Montag\, 04. Dezember 2023 um 18:00 Uhr in der Pizzeria La Porta (Rhönhalle). Wer neu interessiert ist\, kann gerne vorbei kommen.
URL:https://fuereinander-da-sein-tann.de/termin/buergerbusfahrer-stammtisch-5
LOCATION:Pizzeria\, Rhönhalle
END:VEVENT
BEGIN:VEVENT
DTSTART;TZID=UTC:20231214T143000
DTEND;TZID=UTC:20231214T163000
DTSTAMP:20260424T162934
CREATED:20231029T133030Z
LAST-MODIFIED:20231029T133138Z
UID:4783-1702564200-1702571400@fuereinander-da-sein-tann.de
SUMMARY:Erzählcafé
DESCRIPTION:
URL:https://fuereinander-da-sein-tann.de/termin/erzaehlcafe-8
LOCATION:Tanner Treff
END:VEVENT
BEGIN:VEVENT
DTSTART;TZID=UTC:20231218T090000
DTEND;TZID=UTC:20231218T110000
DTSTAMP:20260424T162934
CREATED:20231029T125451Z
LAST-MODIFIED:20231029T125455Z
UID:4770-1702890000-1702897200@fuereinander-da-sein-tann.de
SUMMARY:Montagsfrühstück
DESCRIPTION:Ab September 2022 wird im “Tanner Treff ” zweimal im Monat wieder ein Montagsfrühstück angeboten. In der Zeit zwischen 9:00 und 11:00 Uhr besteht die Möglichkeit\, in Gemeinschaft zusammen zu frühstücken. Sie finden nicht nur ein einfaches und ansprechendes Frühstücksangebot\, sondern auch immer Kontaktmöglichkeiten. Zusammen schmeckt es besser und wenn Sie sonst alleine sind\, dann können Sie sich auf den Montag freuen\, müssen nicht alleine zu Hause frühstücken und können anschließend bequem in Tann Ihre Erledigungen machen.
URL:https://fuereinander-da-sein-tann.de/termin/montagsfruehstueck-16
LOCATION:Tanner Treff
ATTACH;FMTTYPE=image/jpeg:https://fuereinander-da-sein-tann.de/wp-content/uploads/2020/03/Montagsfrühstückstisch-2-scaled.jpg
END:VEVENT
END:VCALENDAR