BEGIN:VCALENDAR
VERSION:2.0
PRODID:-//Füreinander da sein e.V. - ECPv6.15.20//NONSGML v1.0//EN
CALSCALE:GREGORIAN
METHOD:PUBLISH
X-WR-CALNAME:Füreinander da sein e.V.
X-ORIGINAL-URL:https://fuereinander-da-sein-tann.de
X-WR-CALDESC:Veranstaltungen für Füreinander da sein e.V.
REFRESH-INTERVAL;VALUE=DURATION:PT1H
X-Robots-Tag:noindex
X-PUBLISHED-TTL:PT1H
BEGIN:VTIMEZONE
TZID:UTC
BEGIN:STANDARD
TZOFFSETFROM:+0000
TZOFFSETTO:+0000
TZNAME:UTC
DTSTART:20240101T000000
END:STANDARD
END:VTIMEZONE
BEGIN:VEVENT
DTSTART;TZID=UTC:20250203T090000
DTEND;TZID=UTC:20250203T110000
DTSTAMP:20260422T072730
CREATED:20250105T115603Z
LAST-MODIFIED:20250105T115603Z
UID:5029-1738573200-1738580400@fuereinander-da-sein-tann.de
SUMMARY:Montagsfrühstück
DESCRIPTION:Seit September 2022 wird im “Tanner Treff ” zweimal im Monat wieder ein Montagsfrühstück angeboten. In der Zeit zwischen 9:00 und 11:00 Uhr besteht die Möglichkeit\, in Gemeinschaft zusammen zu frühstücken. Sie finden nicht nur ein einfaches und ansprechendes Frühstücksangebot\, sondern auch immer Kontaktmöglichkeiten. Zusammen schmeckt es besser und wenn Sie sonst alleine sind\, dann können Sie sich auf den Montag freuen\, müssen nicht alleine zu Hause frühstücken und können anschließend bequem in Tann Ihre Erledigungen machen.
URL:https://fuereinander-da-sein-tann.de/termin/montagsfruehstueck-44
LOCATION:Tanner Treff
ATTACH;FMTTYPE=image/jpeg:https://fuereinander-da-sein-tann.de/wp-content/uploads/2020/03/Montagsfrühstückstisch-2-scaled.jpg
END:VEVENT
BEGIN:VEVENT
DTSTART;TZID=UTC:20250203T180000
DTEND;TZID=UTC:20250203T210000
DTSTAMP:20260422T072730
CREATED:20250127T165923Z
LAST-MODIFIED:20250127T165923Z
UID:5053-1738605600-1738616400@fuereinander-da-sein-tann.de
SUMMARY:Bürgerbus-Stammtisch
DESCRIPTION:Der nächste Bürgerbus-Stammtisch findet am Montag\, 03. Februar 2025 um 18:00 Uhr im „Tanner Treff“ (Rhönhalle) statt.  Auch\, wer neu an einer ehrenamtlichen Mitarbeit im Bürgerbus-Team interessiert ist\, kann gerne vorbei kommen.
URL:https://fuereinander-da-sein-tann.de/termin/buergerbus-stammtisch-11
LOCATION:Tanner Treff
END:VEVENT
BEGIN:VEVENT
DTSTART;TZID=UTC:20250217T090000
DTEND;TZID=UTC:20250217T110000
DTSTAMP:20260422T072730
CREATED:20250105T115721Z
LAST-MODIFIED:20250105T115721Z
UID:5031-1739782800-1739790000@fuereinander-da-sein-tann.de
SUMMARY:Montagsfrühstück
DESCRIPTION:Seit September 2022 wird im “Tanner Treff ” zweimal im Monat wieder ein Montagsfrühstück angeboten. In der Zeit zwischen 9:00 und 11:00 Uhr besteht die Möglichkeit\, in Gemeinschaft zusammen zu frühstücken. Sie finden nicht nur ein einfaches und ansprechendes Frühstücksangebot\, sondern auch immer Kontaktmöglichkeiten. Zusammen schmeckt es besser und wenn Sie sonst alleine sind\, dann können Sie sich auf den Montag freuen\, müssen nicht alleine zu Hause frühstücken und können anschließend bequem in Tann Ihre Erledigungen machen.
URL:https://fuereinander-da-sein-tann.de/termin/montagsfruehstueck-45
LOCATION:Tanner Treff
ATTACH;FMTTYPE=image/jpeg:https://fuereinander-da-sein-tann.de/wp-content/uploads/2020/03/Montagsfrühstückstisch-2-scaled.jpg
END:VEVENT
BEGIN:VEVENT
DTSTART;TZID=UTC:20250227T143000
DTEND;TZID=UTC:20250227T163000
DTSTAMP:20260422T072730
CREATED:20250105T114323Z
LAST-MODIFIED:20250105T114323Z
UID:5017-1740666600-1740673800@fuereinander-da-sein-tann.de
SUMMARY:Erzählcafé
DESCRIPTION:Was ist das Erzählcafé?\nEinmal im Monat findet donnerstags von 14:30 Uhr bis 16:30 Uhr das Erzählcafé des Vereins „Füreinander da sein“ im „Tanner Treff“ in der Rhönhalle statt. Eingeladen sind alle\, die die Gemeinschaft suchen und gerne miteinander erzählen. Jedes Erzählcafé steht unter einem Thema. Nach der Begrüßung sind zunächst alle in gemütlicher Runde zu Kaffee und Kuchen eingeladen. Danach beginnt unter Leitung einer Moderation die gemeinsame Erzählrunde. „Die Erinnerung ist das einzige Paradies\, woraus wir nicht vertrieben werden können.“ Mit diesen Worten beschreibt der Dichter Jean Paul die Bedeutung und den Wert des Erinnerns und Erzählens. Anderen von uns zu erzählen bedeutet\, miteinander ins Gespräch zu kommen\, Erfahrungen auszutauschen\, sich gegenseitig zu bereichern. Es bedeutet aber auch\, dass wir uns selbst über uns und unser Leben bewusst werden.
URL:https://fuereinander-da-sein-tann.de/termin/erzaehlcafe-28
LOCATION:Tanner Treff
END:VEVENT
END:VCALENDAR